BEGIN:VCALENDAR
VERSION:2.0
PRODID:-//ddaysoftware.com//NONSGML DDay.iCal 1.0//EN
BEGIN:VTIMEZONE
TZID:W. Europe Standard Time
BEGIN:STANDARD
DTSTART:20251002T030000
RRULE:FREQ=YEARLY;BYDAY=-1SU;BYHOUR=3;BYMINUTE=0;BYMONTH=10
TZNAME:W. Europe Standard Time
TZOFFSETFROM:+0200
TZOFFSETTO:+0100
END:STANDARD
BEGIN:DAYLIGHT
DTSTART:20250301T020000
RRULE:FREQ=YEARLY;BYDAY=-1SU;BYHOUR=2;BYMINUTE=0;BYMONTH=3
TZNAME:W. Europe Daylight Time
TZOFFSETFROM:+0100
TZOFFSETTO:+0200
END:DAYLIGHT
END:VTIMEZONE
BEGIN:VEVENT
CATEGORIES:Gemeindenachmittag
DESCRIPTION:\n\nVeranstalter: Kirchengemeinde Förrenbach\n\nhttps://www.hap
 purg.de/aktuelles/veranstaltungen/lebensraum-garten-mit-heide-frobel-bundn
 aturschutz/
DTEND:20260212T153000
DTSTAMP:20260420T110410Z
DTSTART:20260212T143000
LOCATION:Gemeindehaus Förrenbach: Pfarrgasse 2\, 91230 Happurg
SEQUENCE:0
SUMMARY:"Lebensraum Garten" mit Heide Frobel\, Bundnaturschutz
UID:13048
URL:https://www.happurg.de/aktuelles/veranstaltungen/lebensraum-garten-mit-
 heide-frobel-bundnaturschutz/
END:VEVENT
END:VCALENDAR
