BEGIN:VCALENDAR
VERSION:2.0
PRODID:-//ddaysoftware.com//NONSGML DDay.iCal 1.0//EN
BEGIN:VTIMEZONE
TZID:W. Europe Standard Time
BEGIN:STANDARD
DTSTART:20251002T030000
RRULE:FREQ=YEARLY;BYDAY=-1SU;BYHOUR=3;BYMINUTE=0;BYMONTH=10
TZNAME:W. Europe Standard Time
TZOFFSETFROM:+0200
TZOFFSETTO:+0100
END:STANDARD
BEGIN:DAYLIGHT
DTSTART:20250301T020000
RRULE:FREQ=YEARLY;BYDAY=-1SU;BYHOUR=2;BYMINUTE=0;BYMONTH=3
TZNAME:W. Europe Daylight Time
TZOFFSETFROM:+0100
TZOFFSETTO:+0200
END:DAYLIGHT
END:VTIMEZONE
BEGIN:VEVENT
CATEGORIES:Gottesdienst
DESCRIPTION:\n\nVeranstalter: Kirchengemeinde Förrenbach\n\nhttps://www.hap
 purg.de/aktuelles/veranstaltungen/kommt-atmet-auf-gottesdienst-mit-posaune
 nchor-und-abendmahl/
DTEND:20260201T103000
DTSTAMP:20260420T105635Z
DTSTART:20260201T093000
LOCATION:Kirche Förrenbach: Molsberger Str. 2\, 91230 Happurg
SEQUENCE:0
SUMMARY:"Kommt-atmet-auf"-Gottesdienst mit Posaunenchor und Abendmahl
UID:13047
URL:https://www.happurg.de/aktuelles/veranstaltungen/kommt-atmet-auf-gottes
 dienst-mit-posaunenchor-und-abendmahl/
END:VEVENT
END:VCALENDAR
