BEGIN:VCALENDAR
VERSION:2.0
PRODID:-//ddaysoftware.com//NONSGML DDay.iCal 1.0//EN
BEGIN:VTIMEZONE
TZID:W. Europe Standard Time
BEGIN:STANDARD
DTSTART:20251002T030000
RRULE:FREQ=YEARLY;BYDAY=-1SU;BYHOUR=3;BYMINUTE=0;BYMONTH=10
TZNAME:W. Europe Standard Time
TZOFFSETFROM:+0200
TZOFFSETTO:+0100
END:STANDARD
BEGIN:DAYLIGHT
DTSTART:20250301T020000
RRULE:FREQ=YEARLY;BYDAY=-1SU;BYHOUR=2;BYMINUTE=0;BYMONTH=3
TZNAME:W. Europe Daylight Time
TZOFFSETFROM:+0100
TZOFFSETTO:+0200
END:DAYLIGHT
END:VTIMEZONE
BEGIN:VEVENT
CATEGORIES:Kirchweih
DESCRIPTION:\n\nVeranstalter: HKV Deckersberg\n\nhttps://www.happurg.de/akt
 uelles/veranstaltungen/kirchweih-in-deckersberg-2/
DTEND:20250825T000000
DTSTAMP:20260421T084656Z
DTSTART;VALUE=DATE:20250822
LOCATION:Lämmermannhalle Deckersberg: Deckersberg 4\, 91230 Happurg
SEQUENCE:0
SUMMARY:Kirchweih in Deckersberg
UID:12454
URL:https://www.happurg.de/aktuelles/veranstaltungen/kirchweih-in-deckersbe
 rg-2/
END:VEVENT
END:VCALENDAR
