BEGIN:VCALENDAR
VERSION:2.0
PRODID:-//ddaysoftware.com//NONSGML DDay.iCal 1.0//EN
BEGIN:VTIMEZONE
TZID:W. Europe Standard Time
BEGIN:STANDARD
DTSTART:20251002T030000
RRULE:FREQ=YEARLY;BYDAY=-1SU;BYHOUR=3;BYMINUTE=0;BYMONTH=10
TZNAME:W. Europe Standard Time
TZOFFSETFROM:+0200
TZOFFSETTO:+0100
END:STANDARD
BEGIN:DAYLIGHT
DTSTART:20250301T020000
RRULE:FREQ=YEARLY;BYDAY=-1SU;BYHOUR=2;BYMINUTE=0;BYMONTH=3
TZNAME:W. Europe Daylight Time
TZOFFSETFROM:+0100
TZOFFSETTO:+0200
END:DAYLIGHT
END:VTIMEZONE
BEGIN:VEVENT
CATEGORIES:Gemeinde
CATEGORIES:Kinder
DESCRIPTION:\n\nhttps://www.happurg.de/aktuelles/veranstaltungen/deckersber
 ger-dorf-flohmarkt/
DTEND:20260426T160000
DTSTAMP:20260421T111513Z
DTSTART:20260426T100000
SEQUENCE:0
SUMMARY:Deckersberger Dorf-Flohmarkt
UID:13188
URL:https://www.happurg.de/aktuelles/veranstaltungen/deckersberger-dorf-flo
 hmarkt/
END:VEVENT
END:VCALENDAR
